BEGIN:VCALENDAR
VERSION:2.0
PRODID:-//Sangha Activa - ECPv6.15.17//NONSGML v1.0//EN
CALSCALE:GREGORIAN
METHOD:PUBLISH
X-WR-CALNAME:Sangha Activa
X-ORIGINAL-URL:https://sanghaactiva.com
X-WR-CALDESC:Eventos para Sangha Activa
REFRESH-INTERVAL;VALUE=DURATION:PT1H
X-Robots-Tag:noindex
X-PUBLISHED-TTL:PT1H
BEGIN:VTIMEZONE
TZID:Europe/Madrid
BEGIN:DAYLIGHT
TZOFFSETFROM:+0100
TZOFFSETTO:+0200
TZNAME:CEST
DTSTART:20240331T010000
END:DAYLIGHT
BEGIN:STANDARD
TZOFFSETFROM:+0200
TZOFFSETTO:+0100
TZNAME:CET
DTSTART:20241027T010000
END:STANDARD
BEGIN:DAYLIGHT
TZOFFSETFROM:+0100
TZOFFSETTO:+0200
TZNAME:CEST
DTSTART:20250330T010000
END:DAYLIGHT
BEGIN:STANDARD
TZOFFSETFROM:+0200
TZOFFSETTO:+0100
TZNAME:CET
DTSTART:20251026T010000
END:STANDARD
BEGIN:DAYLIGHT
TZOFFSETFROM:+0100
TZOFFSETTO:+0200
TZNAME:CEST
DTSTART:20260329T010000
END:DAYLIGHT
BEGIN:STANDARD
TZOFFSETFROM:+0200
TZOFFSETTO:+0100
TZNAME:CET
DTSTART:20261025T010000
END:STANDARD
END:VTIMEZONE
BEGIN:VEVENT
DTSTART;TZID=Europe/Madrid:20250412T100000
DTEND;TZID=Europe/Madrid:20250412T180000
DTSTAMP:20260423T230154
CREATED:20240806T110512Z
LAST-MODIFIED:20240806T110513Z
UID:24458-1744452000-1744480800@sanghaactiva.com
SUMMARY:Curso Introducción a la meditación - Presencial
DESCRIPTION:Detalles del curso de Introducción a la meditación\n\n\n\n\n\n\n\nUn día completo donde obtendrás información teórica y práctica para iniciar un camino de autoconocimiento. Mediante ejercicios para soltar las tensiones y reducir el estrés\, meditaciones guiadas\, y experiencias sobre la relación cuerpo – mente\, podrás tomar conciencia de tu universo mental. \n\n\n\n\n\n\n\n\n\nClica en la imagen para más detalles de la actividad\n\n\n\n\n\n\n\nMaterial y comida incluido \n\n\n\n\nenlace inscripción\n\n\n\n\n\n\n\n\n\n\n\n\n\n\n\n\n\n\n¿Cómo se llega a Dones d’Aigua? \n\n\n\nCompartir coche a Dones d’Aigua
URL:https://sanghaactiva.com/agenda/curso-introduccion-a-la-meditacion-12-abril
LOCATION:Sangha Activa – Dones D’aigua\, Masia Ca l'Oller\, s/n\, Sant Iscle de Vallalta\, Barcelona\, 08359\, Spain
CATEGORIES:Dones d'aigua,Introducción a la meditación,Meditación
ATTACH;FMTTYPE=image/jpeg:https://sanghaactiva.com/wp-content/uploads/2023/08/curso-introduccion-a-la-meditacion-portada-imagen-evento.jpg
END:VEVENT
END:VCALENDAR