BEGIN:VCALENDAR
VERSION:2.0
PRODID:-//Sangha Activa - ECPv6.15.17//NONSGML v1.0//EN
CALSCALE:GREGORIAN
METHOD:PUBLISH
X-ORIGINAL-URL:https://sanghaactiva.com
X-WR-CALDESC:Eventos para Sangha Activa
REFRESH-INTERVAL;VALUE=DURATION:PT1H
X-Robots-Tag:noindex
X-PUBLISHED-TTL:PT1H
BEGIN:VTIMEZONE
TZID:Europe/Madrid
BEGIN:DAYLIGHT
TZOFFSETFROM:+0100
TZOFFSETTO:+0200
TZNAME:CEST
DTSTART:20240331T010000
END:DAYLIGHT
BEGIN:STANDARD
TZOFFSETFROM:+0200
TZOFFSETTO:+0100
TZNAME:CET
DTSTART:20241027T010000
END:STANDARD
BEGIN:DAYLIGHT
TZOFFSETFROM:+0100
TZOFFSETTO:+0200
TZNAME:CEST
DTSTART:20250330T010000
END:DAYLIGHT
BEGIN:STANDARD
TZOFFSETFROM:+0200
TZOFFSETTO:+0100
TZNAME:CET
DTSTART:20251026T010000
END:STANDARD
BEGIN:DAYLIGHT
TZOFFSETFROM:+0100
TZOFFSETTO:+0200
TZNAME:CEST
DTSTART:20260329T010000
END:DAYLIGHT
BEGIN:STANDARD
TZOFFSETFROM:+0200
TZOFFSETTO:+0100
TZNAME:CET
DTSTART:20261025T010000
END:STANDARD
END:VTIMEZONE
BEGIN:VEVENT
DTSTART;TZID=Europe/Madrid:20250613T180000
DTEND;TZID=Europe/Madrid:20250615T190000
DTSTAMP:20260423T160318
CREATED:20240910T082615Z
LAST-MODIFIED:20250423T162256Z
UID:24790-1749837600-1750014000@sanghaactiva.com
SUMMARY:Acércate al budismo tibetano: Un fin de semana de sosiego\, meditación e introducción al budismo vajrayana.
DESCRIPTION:“Acércate al budismo tibetano” es una propuesta dirigida a todas aquellas personas que tengan conexión con el budismo y sienten interés por conocer un poco más sobre la tradición tibetana. Un grupo de novici@s de la comunidad te acompañará en una serie de talleres sobre budismo vajaryana\, pero no solamente desde la parte teórica\, sinó también desde la experiencia meditativa.  \n\n\n\nUna propuesta dirigida a todas las personas con interés en compartir experiencias en busca de la felicidad genuina.\n\n\n\nA cargo de Los miembros de la comunidad os acompañaremos en cada una de las actividades programadas. Y el equipo de voluntarios velará para que nuestra estancia sea en sí misma una vivencia especial\n\n\n\n\n\n\n\nPrograma y actividades de “Acércate al budismo tibetano”\n\n\n\n\n\n\n\nViernes 13 de junio  \n\n\n\n\nAcogida y presentación de la comunitat y el centre. \n\n\n\nCena en comunidad. \n\n\n\nPresentación del retiro y de las actividades que se harán el fin de semana. \n\n\n\n\nSábado 14 de junio:  \n\n\n\n\nDespertar cuerpo y mente. \n\n\n\nConoce la esencia de la comunidad: Un recorrido sobre el budismo tibetano o vajrayana\, sus escuelas\, nuestro linaje Sakya y el papel de nuestra comunidad. \n\n\n\nAcción consciente o karma yoga en los espacios naturales.\n\n\n\nComida con la comunidad. \n\n\n\nRecorrido por el arte sagrado y muestra de instrumentos rituales en el budismo tibetano: El budismo tibetano es riquísimo en arte y simbología.\, banderas de oración\, thangkas\, etc. Aprende sobre este fascinante universo simbólico. Por otro lado\, los instrumentos son elementos imprescindibles en los rituales y ceremonias del budismo tibetano. Te enseñaremos los diferentes tipos\, sus particularidades y las energías a las que nos acercan. ¡Te abrirás a universo energético a través del sonido!\n\n\n\nRitual Puja de Protectores: Asistirás a uno de los rituales que se celebran diáriamente en la comunidad. Te explicaremos su significado y simbolismo\, y comprenderás la importancia del ritual en el budismo vajrayana.  Podrás participar meditando o simplemente dejándote llevar por la energía generada. ¡Toda una experiencia!\n\n\n\nCena\,  compartimos con la comunidad y buenas noches. \n\n\n\n\nDomingo 15 de junio \n\n\n\n\nRitual Puja de Tara:  Comprende la energía de Tara y presencia uno de los rituales vajrayana más bonitos. \n\n\n\nCaminar Consciente: Nos damos un momento de sosiego y meditación caminando por los alrededores del centro. Una oportunidad magnífica para soltar tensiones y aprender a meditar en movimiento. \n\n\n\nPráctica de  la compasión en el Dolmen-Estupa: El budismo tibetano no puede entenderse sin el cultivo de la compasión\, es su esencia.  Conocerás lo que es una estupa\, y practicaremos la meditación tradicional delante de la estupa (circunvalaciones) como monumento religioso y potenciador de energía.  También realizaremos meditaciones guiadas en la compasión. \n\n\n\nCompartimos y valoramos lo experimentado en el retiro. \n\n\n\nComida y despedida. \n\n\n\n\nDetalles del retiro y precios\n\n\n\n\n\n\n\n\n\nClica en la imagen para más información y detalles\n\n\n\n\n\n\n\n*Descuento soci@s según aportación \n\n\n\n\nenlace de inscripción\n\n\n\n\n\n\n\n\n¿Cómo se llega a Dones d’Aigua? \n\n\n\nCompartir coche a Dones d’Aigua
URL:https://sanghaactiva.com/agenda/acercate-al-budismo-tibetano-13-15-junio
LOCATION:Sangha Activa – Dones D’aigua\, Masia Ca l'Oller\, s/n\, Sant Iscle de Vallalta\, Barcelona\, 08359\, Spain
CATEGORIES:Dones d'aigua,Retiros,Un fin de semana con la comunidad
ATTACH;FMTTYPE=image/jpeg:https://sanghaactiva.com/wp-content/uploads/2024/01/acercate-al-budismo-tibetano.jpg
END:VEVENT
END:VCALENDAR