BEGIN:VCALENDAR
VERSION:2.0
PRODID:-//Sangha Activa - ECPv6.15.17//NONSGML v1.0//EN
CALSCALE:GREGORIAN
METHOD:PUBLISH
X-ORIGINAL-URL:https://sanghaactiva.com
X-WR-CALDESC:Eventos para Sangha Activa
REFRESH-INTERVAL;VALUE=DURATION:PT1H
X-Robots-Tag:noindex
X-PUBLISHED-TTL:PT1H
BEGIN:VTIMEZONE
TZID:Europe/Madrid
BEGIN:DAYLIGHT
TZOFFSETFROM:+0100
TZOFFSETTO:+0200
TZNAME:CEST
DTSTART:20230326T010000
END:DAYLIGHT
BEGIN:STANDARD
TZOFFSETFROM:+0200
TZOFFSETTO:+0100
TZNAME:CET
DTSTART:20231029T010000
END:STANDARD
BEGIN:DAYLIGHT
TZOFFSETFROM:+0100
TZOFFSETTO:+0200
TZNAME:CEST
DTSTART:20240331T010000
END:DAYLIGHT
BEGIN:STANDARD
TZOFFSETFROM:+0200
TZOFFSETTO:+0100
TZNAME:CET
DTSTART:20241027T010000
END:STANDARD
BEGIN:DAYLIGHT
TZOFFSETFROM:+0100
TZOFFSETTO:+0200
TZNAME:CEST
DTSTART:20250330T010000
END:DAYLIGHT
BEGIN:STANDARD
TZOFFSETFROM:+0200
TZOFFSETTO:+0100
TZNAME:CET
DTSTART:20251026T010000
END:STANDARD
END:VTIMEZONE
BEGIN:VEVENT
DTSTART;TZID=Europe/Madrid:20240202T190000
DTEND;TZID=Europe/Madrid:20240202T200000
DTSTAMP:20260424T163909
CREATED:20240130T144804Z
LAST-MODIFIED:20240130T144807Z
UID:23099-1706900400-1706904000@sanghaactiva.com
SUMMARY:Gratuito ¿Qué es meditar? Taller en Dones d'Aigua (St.Iscle Vallalta)
DESCRIPTION:Sangha Activa es una comunidad budista que desde 2012 ofrece el programa de meditación GIM (Grupo-Investigación-Meditación) como aplicación de la meditación a la vida cotidiana y secular. Toda la potencialidad de la meditación budista aplicada a tu día a día. \n\n\n\nNuestro método ha ayudado más de mil de alumnos a convertirse en meditarodes independientes y constantes\, y a dar un salto cualitativo en su vida y relaciones personales. \n\n\n\nEn esta actividad te descubriremos qué es y qué no es la meditación\, aprenderás conceptos básicos\, y tendrás tu experiencia meditativa. \n\n\n\n¿Ya has tenido experiéncia con la meditación pero quieres conocer nuestro programa GIM? ¡Este taller también es para tí! \n\n\n\n\n\n\n\n\n\n\n\n\n\n¿Cómo se llega a Dones d’Aigua? \n\n\n\nCompartir coche a Dones d’Aigua \n\n\n\n\n\n\n\n\n\n\nComprar entradas en Eventbrite\n\nComprar entradas
URL:https://sanghaactiva.com/agenda/meditar-taller-en-dones-daigua-2-febrero
LOCATION:Sangha Activa – Dones D’aigua\, Masia Ca l'Oller\, s/n\, Sant Iscle de Vallalta\, Barcelona\, 08359\, Spain
CATEGORIES:Dones d'aigua,Meditación Arenys de Mar-Arenys de Munt,Programa de Meditación GIM,Talleres gratuitos Meditación GIM
ATTACH;FMTTYPE=image/jpeg:https://sanghaactiva.com/wp-content/uploads/2023/12/taller-meditacion-en-dones-aigua-con-pilar-imagen.jpg
END:VEVENT
BEGIN:VEVENT
DTSTART;TZID=Europe/Madrid:20240207T190000
DTEND;TZID=Europe/Madrid:20240207T200000
DTSTAMP:20260424T163910
CREATED:20240117T120036Z
LAST-MODIFIED:20240117T120039Z
UID:22866-1707332400-1707336000@sanghaactiva.com
SUMMARY:¿Qué es meditar? Charla-taller de introducción a la meditación en Sabadell - Todos los miércoles
DESCRIPTION:Todos los miércoles (excepto festivos) de 18h a 19h te invitamos a descubrir cómo la meditacion puede convertirse en una herramienta potente para tu crecimiento y desarrollo personal. ¡A cambiar tu vida! \n\n\n\nSangha Activa es una comunidad budista que desde 2012 ofrece el programa de meditación GIM (Grupo-Investigación-Meditación) como aplicación de la meditación a la vida cotidiana y secular. Toda la potencialidad de la meditación budista aplicada a tu día a día. \n\n\n\nNuestro método ha ayudado más de mil de alumnos a convertirse en meditarodes independientes y constantes\, y a dar un salto cualitativo en su vida y relaciones personales. \n\n\n\nEn esta actividad te descubriremos qué es y qué no es la meditación\, aprenderás conceptos básicos\, y tendrás tu experiencia meditativa. \n\n\n\n¿Ya has tenido experiéncia con la meditación pero quieres conocer nuestro programa GIM? ¡Este taller también es para tí!
URL:https://sanghaactiva.com/agenda/que-es-meditar-taller-de-meditacion-en-sabadell-miercoles
LOCATION:Sangha Activa – Sabadell\, Avinguda Paraires 10\, Sabadell\, 08206\, España
CATEGORIES:Meditación Sabadell,Programa de Meditación GIM,Sabadell,Talleres gratuitos Meditación GIM
ATTACH;FMTTYPE=image/jpeg:https://sanghaactiva.com/wp-content/uploads/2023/12/taller-gratuito-de-meditacion-sabadell-imagen-agenda.jpg
END:VEVENT
BEGIN:VEVENT
DTSTART;TZID=Europe/Madrid:20240209T190000
DTEND;TZID=Europe/Madrid:20240209T200000
DTSTAMP:20260424T163910
CREATED:20240130T144940Z
LAST-MODIFIED:20240130T144941Z
UID:23101-1707505200-1707508800@sanghaactiva.com
SUMMARY:Gratuito ¿Qué es meditar? Taller en Dones d'Aigua (St.Iscle Vallalta)
DESCRIPTION:Sangha Activa es una comunidad budista que desde 2012 ofrece el programa de meditación GIM (Grupo-Investigación-Meditación) como aplicación de la meditación a la vida cotidiana y secular. Toda la potencialidad de la meditación budista aplicada a tu día a día. \n\n\n\nNuestro método ha ayudado más de mil de alumnos a convertirse en meditarodes independientes y constantes\, y a dar un salto cualitativo en su vida y relaciones personales. \n\n\n\nEn esta actividad te descubriremos qué es y qué no es la meditación\, aprenderás conceptos básicos\, y tendrás tu experiencia meditativa. \n\n\n\n¿Ya has tenido experiéncia con la meditación pero quieres conocer nuestro programa GIM? ¡Este taller también es para tí! \n\n\n\n\n\n\n\n\n\n\n\n\n\n¿Cómo se llega a Dones d’Aigua? \n\n\n\nCompartir coche a Dones d’Aigua \n\n\n\n\n\n\n\n\n\n\nComprar entradas en Eventbrite\n\nComprar entradas
URL:https://sanghaactiva.com/agenda/meditar-taller-en-dones-daigua-9-febrero
LOCATION:Sangha Activa – Dones D’aigua\, Masia Ca l'Oller\, s/n\, Sant Iscle de Vallalta\, Barcelona\, 08359\, Spain
CATEGORIES:Dones d'aigua,Meditación Arenys de Mar-Arenys de Munt,Programa de Meditación GIM,Talleres gratuitos Meditación GIM
ATTACH;FMTTYPE=image/jpeg:https://sanghaactiva.com/wp-content/uploads/2023/12/taller-meditacion-en-dones-aigua-con-pilar-imagen.jpg
END:VEVENT
BEGIN:VEVENT
DTSTART;TZID=Europe/Madrid:20240214T190000
DTEND;TZID=Europe/Madrid:20240214T200000
DTSTAMP:20260424T163910
CREATED:20240117T120355Z
LAST-MODIFIED:20240117T120431Z
UID:22868-1707937200-1707940800@sanghaactiva.com
SUMMARY:¿Qué es meditar? Charla-taller de introducción a la meditación en Sabadell - Todos los miércoles
DESCRIPTION:Todos los miércoles (excepto festivos) de 18h a 19h te invitamos a descubrir cómo la meditacion puede convertirse en una herramienta potente para tu crecimiento y desarrollo personal. ¡A cambiar tu vida! \n\n\n\nSangha Activa es una comunidad budista que desde 2012 ofrece el programa de meditación GIM (Grupo-Investigación-Meditación) como aplicación de la meditación a la vida cotidiana y secular. Toda la potencialidad de la meditación budista aplicada a tu día a día. \n\n\n\nNuestro método ha ayudado más de mil de alumnos a convertirse en meditarodes independientes y constantes\, y a dar un salto cualitativo en su vida y relaciones personales. \n\n\n\nEn esta actividad te descubriremos qué es y qué no es la meditación\, aprenderás conceptos básicos\, y tendrás tu experiencia meditativa. \n\n\n\n¿Ya has tenido experiéncia con la meditación pero quieres conocer nuestro programa GIM? ¡Este taller también es para tí!
URL:https://sanghaactiva.com/agenda/introduccion-a-la-meditacion-en-sabadell-todos-los-miercoles
LOCATION:Sangha Activa – Sabadell\, Avinguda Paraires 10\, Sabadell\, 08206\, España
CATEGORIES:Meditación Sabadell,Programa de Meditación GIM,Sabadell,Talleres gratuitos Meditación GIM
ATTACH;FMTTYPE=image/jpeg:https://sanghaactiva.com/wp-content/uploads/2023/12/taller-gratuito-de-meditacion-sabadell-imagen-agenda.jpg
END:VEVENT
BEGIN:VEVENT
DTSTART;TZID=Europe/Madrid:20240216T190000
DTEND;TZID=Europe/Madrid:20240216T200000
DTSTAMP:20260424T163910
CREATED:20240130T145116Z
LAST-MODIFIED:20240130T145118Z
UID:23103-1708110000-1708113600@sanghaactiva.com
SUMMARY:Gratuito ¿Qué es meditar? Taller en Dones d'Aigua (St.Iscle Vallalta)
DESCRIPTION:Sangha Activa es una comunidad budista que desde 2012 ofrece el programa de meditación GIM (Grupo-Investigación-Meditación) como aplicación de la meditación a la vida cotidiana y secular. Toda la potencialidad de la meditación budista aplicada a tu día a día. \n\n\n\nNuestro método ha ayudado más de mil de alumnos a convertirse en meditarodes independientes y constantes\, y a dar un salto cualitativo en su vida y relaciones personales. \n\n\n\nEn esta actividad te descubriremos qué es y qué no es la meditación\, aprenderás conceptos básicos\, y tendrás tu experiencia meditativa. \n\n\n\n¿Ya has tenido experiéncia con la meditación pero quieres conocer nuestro programa GIM? ¡Este taller también es para tí! \n\n\n\n\n\n\n\n\n\n\n\n\n\n¿Cómo se llega a Dones d’Aigua? \n\n\n\nCompartir coche a Dones d’Aigua \n\n\n\n\n\n\n\n\n\n\nComprar entradas en Eventbrite\n\nComprar entradas
URL:https://sanghaactiva.com/agenda/meditar-taller-en-dones-daigua-16-febrero
LOCATION:Sangha Activa – Dones D’aigua\, Masia Ca l'Oller\, s/n\, Sant Iscle de Vallalta\, Barcelona\, 08359\, Spain
CATEGORIES:Dones d'aigua,Meditación Arenys de Mar-Arenys de Munt,Programa de Meditación GIM,Talleres gratuitos Meditación GIM
ATTACH;FMTTYPE=image/jpeg:https://sanghaactiva.com/wp-content/uploads/2023/12/taller-meditacion-en-dones-aigua-con-pilar-imagen.jpg
END:VEVENT
BEGIN:VEVENT
DTSTART;TZID=Europe/Madrid:20240221T190000
DTEND;TZID=Europe/Madrid:20240221T200000
DTSTAMP:20260424T163910
CREATED:20240117T120542Z
LAST-MODIFIED:20240117T120545Z
UID:22870-1708542000-1708545600@sanghaactiva.com
SUMMARY:¿Qué es meditar? Charla-taller de introducción a la meditación en Sabadell - Todos los miércoles
DESCRIPTION:Todos los miércoles (excepto festivos) de 18h a 19h te invitamos a descubrir cómo la meditacion puede convertirse en una herramienta potente para tu crecimiento y desarrollo personal. ¡A cambiar tu vida! \n\n\n\nSangha Activa es una comunidad budista que desde 2012 ofrece el programa de meditación GIM (Grupo-Investigación-Meditación) como aplicación de la meditación a la vida cotidiana y secular. Toda la potencialidad de la meditación budista aplicada a tu día a día. \n\n\n\nNuestro método ha ayudado más de mil de alumnos a convertirse en meditarodes independientes y constantes\, y a dar un salto cualitativo en su vida y relaciones personales. \n\n\n\nEn esta actividad te descubriremos qué es y qué no es la meditación\, aprenderás conceptos básicos\, y tendrás tu experiencia meditativa. \n\n\n\n¿Ya has tenido experiéncia con la meditación pero quieres conocer nuestro programa GIM? ¡Este taller también es para tí!
URL:https://sanghaactiva.com/agenda/que-es-meditar-en-sabadell-todos-los-miercoles
LOCATION:Sangha Activa – Sabadell\, Avinguda Paraires 10\, Sabadell\, 08206\, España
CATEGORIES:Meditación Sabadell,Programa de Meditación GIM,Sabadell,Talleres gratuitos Meditación GIM
ATTACH;FMTTYPE=image/jpeg:https://sanghaactiva.com/wp-content/uploads/2023/12/taller-gratuito-de-meditacion-sabadell-imagen-agenda.jpg
END:VEVENT
BEGIN:VEVENT
DTSTART;TZID=Europe/Madrid:20240223T190000
DTEND;TZID=Europe/Madrid:20240223T200000
DTSTAMP:20260424T163910
CREATED:20240130T145239Z
LAST-MODIFIED:20240130T145240Z
UID:23105-1708714800-1708718400@sanghaactiva.com
SUMMARY:Gratuito ¿Qué es meditar? Taller en Dones d'Aigua (St.Iscle Vallalta)
DESCRIPTION:Sangha Activa es una comunidad budista que desde 2012 ofrece el programa de meditación GIM (Grupo-Investigación-Meditación) como aplicación de la meditación a la vida cotidiana y secular. Toda la potencialidad de la meditación budista aplicada a tu día a día. \n\n\n\nNuestro método ha ayudado más de mil de alumnos a convertirse en meditarodes independientes y constantes\, y a dar un salto cualitativo en su vida y relaciones personales. \n\n\n\nEn esta actividad te descubriremos qué es y qué no es la meditación\, aprenderás conceptos básicos\, y tendrás tu experiencia meditativa. \n\n\n\n¿Ya has tenido experiéncia con la meditación pero quieres conocer nuestro programa GIM? ¡Este taller también es para tí! \n\n\n\n\n\n\n\n\n\n\n\n\n\n¿Cómo se llega a Dones d’Aigua? \n\n\n\nCompartir coche a Dones d’Aigua \n\n\n\n\n\n\n\n\n\n\nComprar entradas en Eventbrite\n\nComprar entradas
URL:https://sanghaactiva.com/agenda/meditar-taller-en-dones-daigua-23-febrero
LOCATION:Sangha Activa – Dones D’aigua\, Masia Ca l'Oller\, s/n\, Sant Iscle de Vallalta\, Barcelona\, 08359\, Spain
CATEGORIES:Dones d'aigua,Meditación Arenys de Mar-Arenys de Munt,Programa de Meditación GIM,Talleres gratuitos Meditación GIM
ATTACH;FMTTYPE=image/jpeg:https://sanghaactiva.com/wp-content/uploads/2023/12/taller-meditacion-en-dones-aigua-con-pilar-imagen.jpg
END:VEVENT
BEGIN:VEVENT
DTSTART;TZID=Europe/Madrid:20240226T100000
DTEND;TZID=Europe/Madrid:20240226T110000
DTSTAMP:20260424T163910
CREATED:20240219T162147Z
LAST-MODIFIED:20240219T163258Z
UID:23385-1708941600-1708945200@sanghaactiva.com
SUMMARY:Taller gratuito: Cómo llevar PAZ MENTAL a tu día (Y dejar las películas mentales) con Melisa González
DESCRIPTION:¡Ven a experimentar cómo la meditación puede traer paz mental a tu día a día. Nuestro método GIM (Grupos de Investigación en la Meditación) de Sangha Activa ha ayudado a más de mil alumn@s a integrar la meditación y el desarrollo personal como herramienta de transformación interna.  \n\n\n\n\n\n\n\n\n\n\n\n\n\nActividad gratuita \n\n\n\n\nComprar entradas en Eventbrite\n\nReservar cojín
URL:https://sanghaactiva.com/agenda/como-llevar-paz-mental-a-tu-dia-taller-26-febrero
LOCATION:Sangha Activa – Sabadell\, Avinguda Paraires 10\, Sabadell\, 08206\, España
CATEGORIES:Charlas GIM online,Meditación,Meditación Sabadell,Programa de Meditación GIM
ATTACH;FMTTYPE=image/jpeg:https://sanghaactiva.com/wp-content/uploads/2024/02/como-llevar-paz-a-tu-dia-imagen.jpg
END:VEVENT
BEGIN:VEVENT
DTSTART;TZID=Europe/Madrid:20240228T190000
DTEND;TZID=Europe/Madrid:20240228T200000
DTSTAMP:20260424T163910
CREATED:20240221T171922Z
LAST-MODIFIED:20240221T171924Z
UID:23430-1709146800-1709150400@sanghaactiva.com
SUMMARY:¿Qué es meditar? Charla-taller de introducción a la meditación en Sabadell - Todos los miércoles
DESCRIPTION:Todos los miércoles (excepto festivos) de 18h a 19h te invitamos a descubrir cómo la meditacion puede convertirse en una herramienta potente para tu crecimiento y desarrollo personal. ¡A cambiar tu vida! \n\n\n\nSangha Activa es una comunidad budista que desde 2012 ofrece el programa de meditación GIM (Grupo-Investigación-Meditación) como aplicación de la meditación a la vida cotidiana y secular. Toda la potencialidad de la meditación budista aplicada a tu día a día. \n\n\n\nNuestro método ha ayudado más de mil de alumnos a convertirse en meditarodes independientes y constantes\, y a dar un salto cualitativo en su vida y relaciones personales. \n\n\n\nEn esta actividad te descubriremos qué es y qué no es la meditación\, aprenderás conceptos básicos\, y tendrás tu experiencia meditativa. \n\n\n\n¿Ya has tenido experiéncia con la meditación pero quieres conocer nuestro programa GIM? ¡Este taller también es para tí! \n\n\n\n\n\n\n\n\n\n\n\n\n\n\n\n\nComprar entradas en Eventbrite\n\nReserva aquí
URL:https://sanghaactiva.com/agenda/taller-de-introduccion-a-la-meditacion-en-sabadell-2
LOCATION:Sangha Activa – Sabadell\, Avinguda Paraires 10\, Sabadell\, 08206\, España
CATEGORIES:Meditación Sabadell,Programa de Meditación GIM,Sabadell,Talleres gratuitos Meditación GIM
ATTACH;FMTTYPE=image/jpeg:https://sanghaactiva.com/wp-content/uploads/2023/12/taller-gratuito-de-meditacion-sabadell-imagen-agenda.jpg
END:VEVENT
BEGIN:VEVENT
DTSTART;TZID=Europe/Madrid:20240229T100000
DTEND;TZID=Europe/Madrid:20240229T110000
DTSTAMP:20260424T163910
CREATED:20240219T163215Z
LAST-MODIFIED:20240227T161334Z
UID:23389-1709200800-1709204400@sanghaactiva.com
SUMMARY:Taller gratuito: Cómo llevar PAZ MENTAL a tu día (Y dejar las películas mentales) con Melisa González
DESCRIPTION:¡Ven a experimentar cómo la meditación puede traer paz mental a tu día a día. Nuestro método GIM (Grupos de Investigación en la Meditación) de Sangha Activa ha ayudado a más de mil alumn@s a integrar la meditación y el desarrollo personal como herramienta de transformación interna.  \n\n\n\n\n\n\n\n\n\n\n\n\n\nActividad gratuita \n\n\n\n\nComprar entradas en Eventbrite\n\nReservar Cojín
URL:https://sanghaactiva.com/agenda/como-llevar-paz-mental-a-tu-dia-29-febrero
LOCATION:Sangha Activa – Sabadell\, Avinguda Paraires 10\, Sabadell\, 08206\, España
CATEGORIES:Meditación,Meditación Sabadell,Programa de Meditación GIM,Talleres gratuitos Meditación GIM
ATTACH;FMTTYPE=image/jpeg:https://sanghaactiva.com/wp-content/uploads/2024/02/como-llevar-paz-a-tu-dia-imagen.jpg
END:VEVENT
END:VCALENDAR