BEGIN:VCALENDAR
VERSION:2.0
PRODID:-//Sangha Activa - ECPv6.15.17//NONSGML v1.0//EN
CALSCALE:GREGORIAN
METHOD:PUBLISH
X-ORIGINAL-URL:https://sanghaactiva.com
X-WR-CALDESC:Eventos para Sangha Activa
REFRESH-INTERVAL;VALUE=DURATION:PT1H
X-Robots-Tag:noindex
X-PUBLISHED-TTL:PT1H
BEGIN:VTIMEZONE
TZID:Europe/Madrid
BEGIN:DAYLIGHT
TZOFFSETFROM:+0100
TZOFFSETTO:+0200
TZNAME:CEST
DTSTART:20230326T010000
END:DAYLIGHT
BEGIN:STANDARD
TZOFFSETFROM:+0200
TZOFFSETTO:+0100
TZNAME:CET
DTSTART:20231029T010000
END:STANDARD
BEGIN:DAYLIGHT
TZOFFSETFROM:+0100
TZOFFSETTO:+0200
TZNAME:CEST
DTSTART:20240331T010000
END:DAYLIGHT
BEGIN:STANDARD
TZOFFSETFROM:+0200
TZOFFSETTO:+0100
TZNAME:CET
DTSTART:20241027T010000
END:STANDARD
BEGIN:DAYLIGHT
TZOFFSETFROM:+0100
TZOFFSETTO:+0200
TZNAME:CEST
DTSTART:20250330T010000
END:DAYLIGHT
BEGIN:STANDARD
TZOFFSETFROM:+0200
TZOFFSETTO:+0100
TZNAME:CET
DTSTART:20251026T010000
END:STANDARD
END:VTIMEZONE
BEGIN:VEVENT
DTSTART;TZID=Europe/Madrid:20240403T193000
DTEND;TZID=Europe/Madrid:20240403T203000
DTSTAMP:20260424T133949
CREATED:20240315T110831Z
LAST-MODIFIED:20240321T144851Z
UID:23642-1712172600-1712176200@sanghaactiva.com
SUMMARY:Online gratuito ¿Qué es meditar? Taller de meditación con Maribel Saludes
DESCRIPTION:Sangha Activa es una comunidad budista que desde 2012 ofrece el programa de meditación GIM (Grupo-Investigación-Meditación) como aplicación de la meditación a la vida cotidiana y secular. Toda la potencialidad de la meditación budista aplicada a tu día a día. Nuestro método ha ayudado más de mil de alumnos a convertirse en meditadores independientes y constantes\, y a dar un salto cualitativo en su vida y relaciones personales. \n\n\n\nEn esta actividad te descubriremos qué es y qué no es la meditación\, aprenderás conceptos básicos\, y tendrás tu experiencia meditativa. ¿Ya has tenido experiencia con la meditación pero quieres conocer nuestro programa GIM? ¡Este taller también es para ti! \n\n\n\nSolo hay 30 plazas disponibles ¡Apúntate ya!   \n\n\n\nNota: Maribel Saludes solo hace clases de meditación GIM presenciales en Baix Llobregat. Saber más.  \n\n\n\n\n\n\n\n\n\nGratuito – Requiere inscripción (Recuerda que es hora española) \n\n\n\n\nComprar entradas en Eventbrite\n\nReservar sitio
URL:https://sanghaactiva.com/agenda/online-gratuito-meditacion-3-abril
LOCATION:Evento Online\, Sangha Activa Online
CATEGORIES:Charlas GIM online,Meditación Baix LLobregat,Programa de Meditación GIM,Taller GIM Maribel Saludes,Talleres gratuitos Meditación GIM
ATTACH;FMTTYPE=image/jpeg:https://sanghaactiva.com/wp-content/uploads/2023/12/grupos-meditacion-maribel-imagen.jpg
END:VEVENT
BEGIN:VEVENT
DTSTART;TZID=Europe/Madrid:20240403T213000
DTEND;TZID=Europe/Madrid:20240403T223000
DTSTAMP:20260424T133949
CREATED:20240227T155938Z
LAST-MODIFIED:20240321T144947Z
UID:23457-1712179800-1712183400@sanghaactiva.com
SUMMARY:Online gratuito ¿Qué es meditar? Taller de meditación con Ngawang Tenzin -
DESCRIPTION:Sangha Activa es una comunidad budista que desde 2012 ofrece el programa de meditación GIM (Grupo-Investigación-Meditación) como aplicación de la meditación a la vida cotidiana y secular. Toda la potencialidad de la meditación budista aplicada a tu día a día. Nuestro método ha ayudado más de mil de alumnos a convertirse en meditarodes independientes y constantes\, y a dar un salto cualitativo en su vida y relaciones personales. \n\n\n\nEn esta actividad te descubriremos qué es y qué no es la meditación\, aprenderás conceptos básicos\, y tendrás tu experiencia meditativa. ¿Ya has tenido experiéncia con la meditación pero quieres conocer nuestro programa GIM? ¡Este taller también es para tí! \n\n\n\nSolo hay 25 plazas disponibles ¡Apúntate ya!   \n\n\n\n\n\n\n\n\n\nGratuito – Requiere inscripción (Recuerda que es hora española) \n\n\n\n\nComprar entradas en Eventbrite\n\nMe apunto
URL:https://sanghaactiva.com/agenda/online-gratuito-que-es-meditar-3-abril
LOCATION:Evento Online\, Sangha Activa Online
CATEGORIES:Charlas GIM online,Programa de Meditación GIM,Taller GIM Ngawang Tenzin,Talleres gratuitos Meditación GIM
ATTACH;FMTTYPE=image/jpeg:https://sanghaactiva.com/wp-content/uploads/2023/12/charlas-gim-online-tenzin-imagen.jpg
END:VEVENT
BEGIN:VEVENT
DTSTART;TZID=Europe/Madrid:20240404T180000
DTEND;TZID=Europe/Madrid:20240404T190000
DTSTAMP:20260424T133949
CREATED:20240311T111051Z
LAST-MODIFIED:20240321T145018Z
UID:23556-1712253600-1712257200@sanghaactiva.com
SUMMARY:Gratuito ¿Qué es meditar? Taller en Barcelona con Montserrat Rumí
DESCRIPTION:Sangha Activa es una comunidad budista que desde 2012 ofrece el programa de meditación GIM (Grupo-Investigación-Meditación) como aplicación de la meditación a la vida cotidiana y secular. Toda la potencialidad de la meditación budista aplicada a tu día a día. Nuestro método ha ayudado más de mil de alumnos a convertirse en meditarodes independientes y constantes\, y a dar un salto cualitativo en su vida y relaciones personales. \n\n\n\nEn esta actividad te descubriremos qué es y qué no es la meditación\, aprenderás conceptos básicos\, y tendrás tu experiencia meditativa. ¿Ya has tenido experiéncia con la meditación pero quieres conocer nuestro programa GIM? ¡Este taller también es para tí! \n\n\n\nSolo hay 15 plazas disponibles ¡Apúntate ya! \n\n\n\n\n\n\n\n\nComprar entradas en Eventbrite\n\nReservar sitio
URL:https://sanghaactiva.com/agenda/gratuito-que-es-meditar-4-abril
LOCATION:Centre Novi\, Ronda Universitat 20 3r 1a\, Barcelona\, España\, 08007
CATEGORIES:Meditación Barcelona,Programa de Meditación GIM,Taller GIM Montserrat Rumí,Talleres gratuitos Meditación GIM
ATTACH;FMTTYPE=image/jpeg:https://sanghaactiva.com/wp-content/uploads/2023/12/taller-meditacion-en-barcelona-con-montserrat-imagen.jpg
END:VEVENT
BEGIN:VEVENT
DTSTART;TZID=Europe/Madrid:20240406T090000
DTEND;TZID=Europe/Madrid:20240406T100000
DTSTAMP:20260424T133949
CREATED:20240304T163559Z
LAST-MODIFIED:20240321T145209Z
UID:23491-1712394000-1712397600@sanghaactiva.com
SUMMARY:Online gratuito ¿Qué es meditar? Taller de meditación con Ngawang Tenzin
DESCRIPTION:Sangha Activa es una comunidad budista que desde 2012 ofrece el programa de meditación GIM (Grupo-Investigación-Meditación) como aplicación de la meditación a la vida cotidiana y secular. Toda la potencialidad de la meditación budista aplicada a tu día a día. Nuestro método ha ayudado más de mil de alumnos a convertirse en meditarodes independientes y constantes\, y a dar un salto cualitativo en su vida y relaciones personales. \n\n\n\nEn esta actividad te descubriremos qué es y qué no es la meditación\, aprenderás conceptos básicos\, y tendrás tu experiencia meditativa. ¿Ya has tenido experiéncia con la meditación pero quieres conocer nuestro programa GIM? ¡Este taller también es para tí! \n\n\n\nSolo hay 25 plazas disponibles ¡Apúntate ya!   \n\n\n\n\n\n\n\n\n\nGratuito – Requiere inscripción (Recuerda que es hora española) \n\n\n\n\nComprar entradas en Eventbrite\n\nReservar sitio
URL:https://sanghaactiva.com/agenda/online-gratuito-que-es-meditar-taller-de-meditacion-6-abril
LOCATION:Evento Online\, Sangha Activa Online
CATEGORIES:Charlas GIM online,Programa de Meditación GIM,Taller GIM Ngawang Tenzin,Talleres gratuitos Meditación GIM
ATTACH;FMTTYPE=image/jpeg:https://sanghaactiva.com/wp-content/uploads/2023/12/charlas-gim-online-tenzin-imagen.jpg
END:VEVENT
BEGIN:VEVENT
DTSTART;TZID=Europe/Madrid:20240411T120000
DTEND;TZID=Europe/Madrid:20240411T130000
DTSTAMP:20260424T133949
CREATED:20240311T111620Z
LAST-MODIFIED:20240321T145327Z
UID:23558-1712836800-1712840400@sanghaactiva.com
SUMMARY:Gratuito ¿Qué es meditar? Taller en Barcelona con Montserrat Rumí
DESCRIPTION:Sangha Activa es una comunidad budista que desde 2012 ofrece el programa de meditación GIM (Grupo-Investigación-Meditación) como aplicación de la meditación a la vida cotidiana y secular. Toda la potencialidad de la meditación budista aplicada a tu día a día. Nuestro método ha ayudado más de mil de alumnos a convertirse en meditarodes independientes y constantes\, y a dar un salto cualitativo en su vida y relaciones personales. \n\n\n\nEn esta actividad te descubriremos qué es y qué no es la meditación\, aprenderás conceptos básicos\, y tendrás tu experiencia meditativa. ¿Ya has tenido experiéncia con la meditación pero quieres conocer nuestro programa GIM? ¡Este taller también es para tí! \n\n\n\nSolo hay 15 plazas disponibles ¡Apúntate ya! \n\n\n\n\n\n\n\n\nComprar entradas en Eventbrite\n\nReservar sitio
URL:https://sanghaactiva.com/agenda/gratuito-que-es-meditar-taller-barcelona-11-abril
LOCATION:Centre Novi\, Ronda Universitat 20 3r 1a\, Barcelona\, España\, 08007
CATEGORIES:Meditación Barcelona,Programa de Meditación GIM,Taller GIM Montserrat Rumí,Talleres gratuitos Meditación GIM
ATTACH;FMTTYPE=image/jpeg:https://sanghaactiva.com/wp-content/uploads/2023/12/taller-meditacion-en-barcelona-con-montserrat-imagen.jpg
END:VEVENT
BEGIN:VEVENT
DTSTART;TZID=Europe/Madrid:20240411T180000
DTEND;TZID=Europe/Madrid:20240411T190000
DTSTAMP:20260424T133949
CREATED:20240311T112209Z
LAST-MODIFIED:20240321T145351Z
UID:23560-1712858400-1712862000@sanghaactiva.com
SUMMARY:Gratuito ¿Qué es meditar? Taller en Barcelona con Montserrat Rumí
DESCRIPTION:Sangha Activa es una comunidad budista que desde 2012 ofrece el programa de meditación GIM (Grupo-Investigación-Meditación) como aplicación de la meditación a la vida cotidiana y secular. Toda la potencialidad de la meditación budista aplicada a tu día a día. Nuestro método ha ayudado más de mil de alumnos a convertirse en meditarodes independientes y constantes\, y a dar un salto cualitativo en su vida y relaciones personales. \n\n\n\nEn esta actividad te descubriremos qué es y qué no es la meditación\, aprenderás conceptos básicos\, y tendrás tu experiencia meditativa. ¿Ya has tenido experiéncia con la meditación pero quieres conocer nuestro programa GIM? ¡Este taller también es para tí! \n\n\n\nSolo hay 15 plazas disponibles ¡Apúntate ya! \n\n\n\n\n\n\n\n\nComprar entradas en Eventbrite\n\nReservar sitio
URL:https://sanghaactiva.com/agenda/que-es-meditar-taller-barcelona-11-abril
LOCATION:Centre Novi\, Ronda Universitat 20 3r 1a\, Barcelona\, España\, 08007
CATEGORIES:Meditación Barcelona,Programa de Meditación GIM,Taller GIM Montserrat Rumí,Talleres gratuitos Meditación GIM
ATTACH;FMTTYPE=image/jpeg:https://sanghaactiva.com/wp-content/uploads/2023/12/taller-meditacion-en-barcelona-con-montserrat-imagen.jpg
END:VEVENT
END:VCALENDAR