BEGIN:VCALENDAR
VERSION:2.0
PRODID:-//Sangha Activa - ECPv6.15.17//NONSGML v1.0//EN
CALSCALE:GREGORIAN
METHOD:PUBLISH
X-ORIGINAL-URL:https://sanghaactiva.com
X-WR-CALDESC:Eventos para Sangha Activa
REFRESH-INTERVAL;VALUE=DURATION:PT1H
X-Robots-Tag:noindex
X-PUBLISHED-TTL:PT1H
BEGIN:VTIMEZONE
TZID:Europe/Madrid
BEGIN:DAYLIGHT
TZOFFSETFROM:+0100
TZOFFSETTO:+0200
TZNAME:CEST
DTSTART:20230326T010000
END:DAYLIGHT
BEGIN:STANDARD
TZOFFSETFROM:+0200
TZOFFSETTO:+0100
TZNAME:CET
DTSTART:20231029T010000
END:STANDARD
BEGIN:DAYLIGHT
TZOFFSETFROM:+0100
TZOFFSETTO:+0200
TZNAME:CEST
DTSTART:20240331T010000
END:DAYLIGHT
BEGIN:STANDARD
TZOFFSETFROM:+0200
TZOFFSETTO:+0100
TZNAME:CET
DTSTART:20241027T010000
END:STANDARD
BEGIN:DAYLIGHT
TZOFFSETFROM:+0100
TZOFFSETTO:+0200
TZNAME:CEST
DTSTART:20250330T010000
END:DAYLIGHT
BEGIN:STANDARD
TZOFFSETFROM:+0200
TZOFFSETTO:+0100
TZNAME:CET
DTSTART:20251026T010000
END:STANDARD
END:VTIMEZONE
BEGIN:VEVENT
DTSTART;TZID=Europe/Madrid:20240108T110000
DTEND;TZID=Europe/Madrid:20240108T120000
DTSTAMP:20260424T193401
CREATED:20231212T090421Z
LAST-MODIFIED:20231227T185438Z
UID:22184-1704711600-1704715200@sanghaactiva.com
SUMMARY:¿Qué es meditar? La meditación como herramienta de cambio\,  en Sabadell con Melisa González
DESCRIPTION:Te invitamos a descubrir cómo la meditacion puede convertirse en una herramienta potente para tu crecimiento y desarrollo personal. ¡A cambiar tu vida! Sangha Activa es una comunidad budista que desde 2012 ofrece el programa de meditación GIM (Grupo-Investigación-Meditación) como aplicación de la meditación a la vida cotidiana y secular. Toda la potencialidad de la meditación budista aplicada a tu día a día. \n\n\n\nNuestro método ha ayudado más de mil de alumnos a convertirse en meditarodes independientes y constantes\, y a dar un salto cualitativo en su vida y relaciones personales. En esta actividad te descubriremos qué es y qué no es la meditación\, aprenderás conceptos básicos\, y tendrás tu experiencia meditativa. ¿Ya has tenido experiéncia con la meditación pero quieres conocer nuestro programa GIM? ¡Este taller también es para tí!  \n\n\n\nSolo 15 plazas disponibles ¡Reseva tu sitio! \n\n\n\n\n\n\n\n\nComprar entradas en Eventbrite\n\nReserva tu cojín
URL:https://sanghaactiva.com/agenda/meditacion-herramienta-cambio-gratuito-sabadell-enero
LOCATION:Sangha Activa – Sabadell\, Avinguda Paraires 10\, Sabadell\, 08206\, España
CATEGORIES:Meditación Sabadell,Programa de Meditación GIM,Sabadell
ATTACH;FMTTYPE=image/jpeg:https://sanghaactiva.com/wp-content/uploads/2023/12/melisa-taller-meditacion-gratis-sabadell-imagen.jpg
END:VEVENT
END:VCALENDAR