BEGIN:VCALENDAR
VERSION:2.0
PRODID:-//Sangha Activa - ECPv6.15.17//NONSGML v1.0//EN
CALSCALE:GREGORIAN
METHOD:PUBLISH
X-ORIGINAL-URL:https://sanghaactiva.com
X-WR-CALDESC:Eventos para Sangha Activa
REFRESH-INTERVAL;VALUE=DURATION:PT1H
X-Robots-Tag:noindex
X-PUBLISHED-TTL:PT1H
BEGIN:VTIMEZONE
TZID:Europe/Madrid
BEGIN:DAYLIGHT
TZOFFSETFROM:+0100
TZOFFSETTO:+0200
TZNAME:CEST
DTSTART:20230326T010000
END:DAYLIGHT
BEGIN:STANDARD
TZOFFSETFROM:+0200
TZOFFSETTO:+0100
TZNAME:CET
DTSTART:20231029T010000
END:STANDARD
BEGIN:DAYLIGHT
TZOFFSETFROM:+0100
TZOFFSETTO:+0200
TZNAME:CEST
DTSTART:20240331T010000
END:DAYLIGHT
BEGIN:STANDARD
TZOFFSETFROM:+0200
TZOFFSETTO:+0100
TZNAME:CET
DTSTART:20241027T010000
END:STANDARD
BEGIN:DAYLIGHT
TZOFFSETFROM:+0100
TZOFFSETTO:+0200
TZNAME:CEST
DTSTART:20250330T010000
END:DAYLIGHT
BEGIN:STANDARD
TZOFFSETFROM:+0200
TZOFFSETTO:+0100
TZNAME:CET
DTSTART:20251026T010000
END:STANDARD
END:VTIMEZONE
BEGIN:VEVENT
DTSTART;TZID=Europe/Madrid:20240111T110000
DTEND;TZID=Europe/Madrid:20240111T120000
DTSTAMP:20260424T193536
CREATED:20231212T104913Z
LAST-MODIFIED:20231227T185710Z
UID:22213-1704970800-1704974400@sanghaactiva.com
SUMMARY:Online gratuito ¿Qué es meditar? Taller de meditación con Ngawang Tenzin
DESCRIPTION:Sangha Activa es una comunidad budista que desde 2012 ofrece el programa de meditación GIM (Grupo-Investigación-Meditación) como aplicación de la meditación a la vida cotidiana y secular. Toda la potencialidad de la meditación budista aplicada a tu día a día. Nuestro método ha ayudado más de mil de alumnos a convertirse en meditarodes independientes y constantes\, y a dar un salto cualitativo en su vida y relaciones personales. \n\n\n\nEn esta actividad te descubriremos qué es y qué no es la meditación\, aprenderás conceptos básicos\, y tendrás tu experiencia meditativa. ¿Ya has tenido experiéncia con la meditación pero quieres conocer nuestro programa GIM? ¡Este taller también es para tí! \n\n\n\nSolo hay 25 plazas disponibles ¡Apúntate ya! \n\n\n\n\n\n\n\n\n\n\n\n\nComprar entradas en Eventbrite\n\nReserva tu sitio
URL:https://sanghaactiva.com/agenda/que-es-meditar-taller-meditacion-online-gratis-11-enero
LOCATION:Evento Online\, Sangha Activa Online
CATEGORIES:Charlas GIM online,Programa de Meditación GIM,Talleres gratuitos Meditación GIM
ATTACH;FMTTYPE=image/jpeg:https://sanghaactiva.com/wp-content/uploads/2023/12/charlas-gim-online-tenzin-imagen.jpg
END:VEVENT
BEGIN:VEVENT
DTSTART;TZID=Europe/Madrid:20240111T183000
DTEND;TZID=Europe/Madrid:20240111T193000
DTSTAMP:20260424T193536
CREATED:20231219T143438Z
LAST-MODIFIED:20231227T185746Z
UID:22308-1704997800-1705001400@sanghaactiva.com
SUMMARY:¿Qué es meditar? La meditación como herramienta de cambio. Gratuito\, en Barcelona con Susana López
DESCRIPTION:Te invitamos a descubrir cómo la meditacion puede convertirse en una herramienta potente para tu crecimiento y desarrollo personal. ¡A cambiar tu vida! Sangha Activa es una comunidad budista que desde 2012 ofrece el programa de meditación GIM (Grupo-Investigación-Meditación) como aplicación de la meditación a la vida cotidiana y secular. Toda la potencialidad de la meditación budista aplicada a tu día a día. \n\n\n\nNuestro método ha ayudado más de mil de alumnos a convertirse en meditarodes independientes y constantes\, y a dar un salto cualitativo en su vida y relaciones personales. En esta actividad te descubriremos qué es y qué no es la meditación\, aprenderás conceptos básicos\, y tendrás tu experiencia meditativa. ¿Ya has tenido experiéncia con la meditación pero quieres conocer nuestro programa GIM? ¡Este taller también es para tí!  \n\n\n\nSolo 15 plazas disponibles ¡Reseva tu sitio! \n\n\n\n\n\n\n\n\nComprar entradas en Eventbrite\n\nReservar cojín
URL:https://sanghaactiva.com/agenda/que-es-meditar-barcelona-susana-lopez-enero
LOCATION:Shamana Holistics\, Ciutat de Granada 20\, Barcelona\, España
CATEGORIES:Meditación Barcelona,Programa de Meditación GIM,Talleres gratuitos Meditación GIM
END:VEVENT
BEGIN:VEVENT
DTSTART;TZID=Europe/Madrid:20240111T203000
DTEND;TZID=Europe/Madrid:20240111T213000
DTSTAMP:20260424T193536
CREATED:20231215T075903Z
LAST-MODIFIED:20231227T185827Z
UID:22296-1705005000-1705008600@sanghaactiva.com
SUMMARY:¿Qué es meditar? Taller gratuito en Esplugues de LLobregat con Maribel Saludes
DESCRIPTION:Sangha Activa es una comunidad budista que desde 2012 ofrece el programa de meditación GIM (Grupo-Investigación-Meditación) como aplicación de la meditación a la vida cotidiana y secular. Toda la potencialidad de la meditación budista aplicada a tu día a día. Nuestro método ha ayudado más de mil de alumnos a convertirse en meditarodes independientes y constantes\, y a dar un salto cualitativo en su vida y relaciones personales. \n\n\n\nEn esta actividad te descubriremos qué es y qué no es la meditación\, aprenderás conceptos básicos\, y tendrás tu experiencia meditativa. ¿Ya has tenido experiéncia con la meditación pero quieres conocer nuestro programa GIM? ¡Este taller también es para tí! \n\n\n\nSolo hay 15 plazas disponibles ¡Apúntate ya! \n\n\n\n\n\n\n\n\n\n\n\n\n\n\n\n\nComprar entradas en Eventbrite\n\nReserva tu cojín
URL:https://sanghaactiva.com/agenda/que-es-meditar-gratuito-esplugues-llobregat-11-enero
LOCATION:Llar d’Infants Nimbo\, Josep Rodoreda\, 9\, Esplugues de Llobregat\, España
CATEGORIES:Meditación Baix LLobregat,Programa de Meditación GIM,Talleres gratuitos Meditación GIM
ATTACH;FMTTYPE=image/jpeg:https://sanghaactiva.com/wp-content/uploads/2023/12/grupos-meditacion-maribel-imagen.jpg
END:VEVENT
END:VCALENDAR