BEGIN:VCALENDAR
VERSION:2.0
PRODID:-//Sangha Activa - ECPv6.15.17//NONSGML v1.0//EN
CALSCALE:GREGORIAN
METHOD:PUBLISH
X-WR-CALNAME:Sangha Activa
X-ORIGINAL-URL:https://sanghaactiva.com
X-WR-CALDESC:Eventos para Sangha Activa
REFRESH-INTERVAL;VALUE=DURATION:PT1H
X-Robots-Tag:noindex
X-PUBLISHED-TTL:PT1H
BEGIN:VTIMEZONE
TZID:Europe/Madrid
BEGIN:DAYLIGHT
TZOFFSETFROM:+0100
TZOFFSETTO:+0200
TZNAME:CEST
DTSTART:20230326T010000
END:DAYLIGHT
BEGIN:STANDARD
TZOFFSETFROM:+0200
TZOFFSETTO:+0100
TZNAME:CET
DTSTART:20231029T010000
END:STANDARD
BEGIN:DAYLIGHT
TZOFFSETFROM:+0100
TZOFFSETTO:+0200
TZNAME:CEST
DTSTART:20240331T010000
END:DAYLIGHT
BEGIN:STANDARD
TZOFFSETFROM:+0200
TZOFFSETTO:+0100
TZNAME:CET
DTSTART:20241027T010000
END:STANDARD
BEGIN:DAYLIGHT
TZOFFSETFROM:+0100
TZOFFSETTO:+0200
TZNAME:CEST
DTSTART:20250330T010000
END:DAYLIGHT
BEGIN:STANDARD
TZOFFSETFROM:+0200
TZOFFSETTO:+0100
TZNAME:CET
DTSTART:20251026T010000
END:STANDARD
END:VTIMEZONE
BEGIN:VEVENT
DTSTART;TZID=Europe/Madrid:20240118T203000
DTEND;TZID=Europe/Madrid:20240118T213000
DTSTAMP:20260424T193319
CREATED:20240116T121531Z
LAST-MODIFIED:20240116T121553Z
UID:22810-1705609800-1705613400@sanghaactiva.com
SUMMARY:¿Qué es meditar? Taller gratuito en Esplugues de LLobregat con Maribel Saludes
DESCRIPTION:Sangha Activa es una comunidad budista que desde 2012 ofrece el programa de meditación GIM (Grupo-Investigación-Meditación) como aplicación de la meditación a la vida cotidiana y secular. Toda la potencialidad de la meditación budista aplicada a tu día a día. Nuestro método ha ayudado más de mil de alumnos a convertirse en meditarodes independientes y constantes\, y a dar un salto cualitativo en su vida y relaciones personales. \n\n\n\nEn esta actividad te descubriremos qué es y qué no es la meditación\, aprenderás conceptos básicos\, y tendrás tu experiencia meditativa. ¿Ya has tenido experiéncia con la meditación pero quieres conocer nuestro programa GIM? ¡Este taller también es para tí! \n\n\n\nSolo hay 15 plazas disponibles ¡Apúntate ya! \n\n\n\n\n\n\n\n\n\n\n\n\n\n\n\n\nComprar entradas en Eventbrite\n\nRESERVA TU COJÍN
URL:https://sanghaactiva.com/agenda/que-es-meditar-taller-gratuito-en-esplugues-de-llobregat-con-maribel-saludes
LOCATION:Llar d’Infants Nimbo\, Josep Rodoreda\, 9\, Esplugues de Llobregat\, España
CATEGORIES:Meditación Baix LLobregat,Programa de Meditación GIM,Talleres gratuitos Meditación GIM
ATTACH;FMTTYPE=image/jpeg:https://sanghaactiva.com/wp-content/uploads/2023/12/grupos-meditacion-maribel-imagen.jpg
END:VEVENT
END:VCALENDAR