BEGIN:VCALENDAR
VERSION:2.0
PRODID:-//Sangha Activa - ECPv6.15.17//NONSGML v1.0//EN
CALSCALE:GREGORIAN
METHOD:PUBLISH
X-ORIGINAL-URL:https://sanghaactiva.com
X-WR-CALDESC:Eventos para Sangha Activa
REFRESH-INTERVAL;VALUE=DURATION:PT1H
X-Robots-Tag:noindex
X-PUBLISHED-TTL:PT1H
BEGIN:VTIMEZONE
TZID:Europe/Madrid
BEGIN:DAYLIGHT
TZOFFSETFROM:+0100
TZOFFSETTO:+0200
TZNAME:CEST
DTSTART:20230326T010000
END:DAYLIGHT
BEGIN:STANDARD
TZOFFSETFROM:+0200
TZOFFSETTO:+0100
TZNAME:CET
DTSTART:20231029T010000
END:STANDARD
BEGIN:DAYLIGHT
TZOFFSETFROM:+0100
TZOFFSETTO:+0200
TZNAME:CEST
DTSTART:20240331T010000
END:DAYLIGHT
BEGIN:STANDARD
TZOFFSETFROM:+0200
TZOFFSETTO:+0100
TZNAME:CET
DTSTART:20241027T010000
END:STANDARD
BEGIN:DAYLIGHT
TZOFFSETFROM:+0100
TZOFFSETTO:+0200
TZNAME:CEST
DTSTART:20250330T010000
END:DAYLIGHT
BEGIN:STANDARD
TZOFFSETFROM:+0200
TZOFFSETTO:+0100
TZNAME:CET
DTSTART:20251026T010000
END:STANDARD
END:VTIMEZONE
BEGIN:VEVENT
DTSTART;TZID=Europe/Madrid:20240209T190000
DTEND;TZID=Europe/Madrid:20240209T200000
DTSTAMP:20260424T182138
CREATED:20240130T144940Z
LAST-MODIFIED:20240130T144941Z
UID:23101-1707505200-1707508800@sanghaactiva.com
SUMMARY:Gratuito ¿Qué es meditar? Taller en Dones d'Aigua (St.Iscle Vallalta)
DESCRIPTION:Sangha Activa es una comunidad budista que desde 2012 ofrece el programa de meditación GIM (Grupo-Investigación-Meditación) como aplicación de la meditación a la vida cotidiana y secular. Toda la potencialidad de la meditación budista aplicada a tu día a día. \n\n\n\nNuestro método ha ayudado más de mil de alumnos a convertirse en meditarodes independientes y constantes\, y a dar un salto cualitativo en su vida y relaciones personales. \n\n\n\nEn esta actividad te descubriremos qué es y qué no es la meditación\, aprenderás conceptos básicos\, y tendrás tu experiencia meditativa. \n\n\n\n¿Ya has tenido experiéncia con la meditación pero quieres conocer nuestro programa GIM? ¡Este taller también es para tí! \n\n\n\n\n\n\n\n\n\n\n\n\n\n¿Cómo se llega a Dones d’Aigua? \n\n\n\nCompartir coche a Dones d’Aigua \n\n\n\n\n\n\n\n\n\n\nComprar entradas en Eventbrite\n\nComprar entradas
URL:https://sanghaactiva.com/agenda/meditar-taller-en-dones-daigua-9-febrero
LOCATION:Sangha Activa – Dones D’aigua\, Masia Ca l'Oller\, s/n\, Sant Iscle de Vallalta\, Barcelona\, 08359\, Spain
CATEGORIES:Dones d'aigua,Meditación Arenys de Mar-Arenys de Munt,Programa de Meditación GIM,Talleres gratuitos Meditación GIM
ATTACH;FMTTYPE=image/jpeg:https://sanghaactiva.com/wp-content/uploads/2023/12/taller-meditacion-en-dones-aigua-con-pilar-imagen.jpg
END:VEVENT
END:VCALENDAR