BEGIN:VCALENDAR
VERSION:2.0
PRODID:-//Sangha Activa - ECPv6.15.17//NONSGML v1.0//EN
CALSCALE:GREGORIAN
METHOD:PUBLISH
X-ORIGINAL-URL:https://sanghaactiva.com
X-WR-CALDESC:Eventos para Sangha Activa
REFRESH-INTERVAL;VALUE=DURATION:PT1H
X-Robots-Tag:noindex
X-PUBLISHED-TTL:PT1H
BEGIN:VTIMEZONE
TZID:Europe/Madrid
BEGIN:DAYLIGHT
TZOFFSETFROM:+0100
TZOFFSETTO:+0200
TZNAME:CEST
DTSTART:20250330T010000
END:DAYLIGHT
BEGIN:STANDARD
TZOFFSETFROM:+0200
TZOFFSETTO:+0100
TZNAME:CET
DTSTART:20251026T010000
END:STANDARD
BEGIN:DAYLIGHT
TZOFFSETFROM:+0100
TZOFFSETTO:+0200
TZNAME:CEST
DTSTART:20260329T010000
END:DAYLIGHT
BEGIN:STANDARD
TZOFFSETFROM:+0200
TZOFFSETTO:+0100
TZNAME:CET
DTSTART:20261025T010000
END:STANDARD
BEGIN:DAYLIGHT
TZOFFSETFROM:+0100
TZOFFSETTO:+0200
TZNAME:CEST
DTSTART:20270328T010000
END:DAYLIGHT
BEGIN:STANDARD
TZOFFSETFROM:+0200
TZOFFSETTO:+0100
TZNAME:CET
DTSTART:20271031T010000
END:STANDARD
END:VTIMEZONE
BEGIN:VEVENT
DTSTART;TZID=Europe/Madrid:20260606T090000
DTEND;TZID=Europe/Madrid:20260606T200000
DTSTAMP:20260423T112034
CREATED:20260327T084613Z
LAST-MODIFIED:20260413T092539Z
UID:28336-1780736400-1780776000@sanghaactiva.com
SUMMARY:Taller de Reiki nivel I con Conchi Peña
DESCRIPTION:Curso abierto a todas aquellas personas que quieren experimentar Reiki unido a la meditación. \n\n\n\n¿Quieres descobrir todo lo que eres capaz de dar y recibir? \n\n\n\n\n\nReiki\, como terapia de sanación energética por imposición de manos es un sistema de harmonización natural que utiliza la Energía Vital Universal. \n\n\n\nEsta energía nos permite tratar enfermedades y desequilibrios físicos y mentales. \n\n\n\nCurso abierto a todas aquellas personas que quieren experimentar Reiki unido a la meditación. \n\n\n\n¿Quieres descobrir todo lo que eres capaz de dar y recibir? \n\n\n\nHORARIO: DE 9:00 a 13:00 h y de 15:00 a 20:00h \n\n\n\nEl Reiki se caracteriza por su sencillez y accesibilidad ya que puede ser utilizado por cualquier persona con unos requisitos mínimos con total efectividad percibiendo claramente sus resultados desde el primer momento.  \n\n\n\n\n\n\n\n\n\n\n\n\n\n\n\n\ninscripción
URL:https://sanghaactiva.com/agenda/taller-de-reiki-nivel-i-con-conchi-pena-06-06-2026
LOCATION:Sangha Activa – Sabadell\, Avinguda Paraires 10\, Sabadell\, 08206\, España
CATEGORIES:Formación Reiki,Reiki,Reiki Sabadell,Sabadell
ATTACH;FMTTYPE=image/jpeg:https://sanghaactiva.com/wp-content/uploads/2024/08/taller-reiki-portada.jpg
END:VEVENT
END:VCALENDAR