BEGIN:VCALENDAR
VERSION:2.0
PRODID:-//Sangha Activa - ECPv6.15.17//NONSGML v1.0//EN
CALSCALE:GREGORIAN
METHOD:PUBLISH
X-ORIGINAL-URL:https://sanghaactiva.com/ca
X-WR-CALDESC:Esdeveniments per Sangha Activa
REFRESH-INTERVAL;VALUE=DURATION:PT1H
X-Robots-Tag:noindex
X-PUBLISHED-TTL:PT1H
BEGIN:VTIMEZONE
TZID:Europe/Madrid
BEGIN:DAYLIGHT
TZOFFSETFROM:+0100
TZOFFSETTO:+0200
TZNAME:CEST
DTSTART:20240331T010000
END:DAYLIGHT
BEGIN:STANDARD
TZOFFSETFROM:+0200
TZOFFSETTO:+0100
TZNAME:CET
DTSTART:20241027T010000
END:STANDARD
BEGIN:DAYLIGHT
TZOFFSETFROM:+0100
TZOFFSETTO:+0200
TZNAME:CEST
DTSTART:20250330T010000
END:DAYLIGHT
BEGIN:STANDARD
TZOFFSETFROM:+0200
TZOFFSETTO:+0100
TZNAME:CET
DTSTART:20251026T010000
END:STANDARD
BEGIN:DAYLIGHT
TZOFFSETFROM:+0100
TZOFFSETTO:+0200
TZNAME:CEST
DTSTART:20260329T010000
END:DAYLIGHT
BEGIN:STANDARD
TZOFFSETFROM:+0200
TZOFFSETTO:+0100
TZNAME:CET
DTSTART:20261025T010000
END:STANDARD
END:VTIMEZONE
BEGIN:VEVENT
DTSTART;TZID=Europe/Madrid:20250226T180000
DTEND;TZID=Europe/Madrid:20250226T190000
DTSTAMP:20260425T130445
CREATED:20250128T144315Z
LAST-MODIFIED:20250128T144316Z
UID:25173-1740592800-1740596400@sanghaactiva.com
SUMMARY:Miércoles de meditación en Sabadell - Sesión gratuita con Francisco Molina - Todos los miércoles
DESCRIPTION:Todos los miércoles de 18h a 19h te invitamos a participar en una sesión de meditación de la mano del instructor y ngagpa budista Francisco Molina.   \n\n\n\nVen a conocernos y disfruta de una charla-taller sobre qué es la meditación y en qué consiste nuestro Programa de meditación GIM.  \n\n\n\nPara apuntarte solo tienes que clicar en el botón de abajo «reservar sitio»\, escoge la fecha que mejor te convenga\, introduce tu mail ¡Y listo! \n\n\n\n\n\n\n\n\n\n\n\n\n\n\nActividad Gratuita – Requiere inscripción \n\n\n\n\n⚠️ El código para desvelar las entradas es GIM \n\n\n\n\nComprar entradas en Eventbrite\n\nReservar sitio
URL:https://sanghaactiva.com/ca/agenda/miercoles-de-meditacion-en-sabadell-26-febrero
LOCATION:Sangha Activa – Sabadell\, Avinguda Paraires 10\, Sabadell\, 08206\, España
CATEGORIES:Meditación,Meditación Sabadell,Programa de Meditación GIM,Sabadell,Taller GIM Francisco Molina,Talleres gratuitos Meditación GIM
ATTACH;FMTTYPE=image/jpeg:https://sanghaactiva.com/wp-content/uploads/2023/12/taller-gratuito-de-meditacion-sabadell-imagen-agenda.jpg
END:VEVENT
BEGIN:VEVENT
DTSTART;TZID=Europe/Madrid:20250226T190000
DTEND;TZID=Europe/Madrid:20250226T200000
DTSTAMP:20260425T130445
CREATED:20241212T111500Z
LAST-MODIFIED:20241212T111501Z
UID:25041-1740596400-1740600000@sanghaactiva.com
SUMMARY:Cuida tu mente: Espacio semanal de bienestar y meditación gratuito- Presencial y Online
DESCRIPTION:Cuida tu mente es un espacio de encuentro para lxs meditadorxs en nuestra sede Sangha Activa – Vilassar de Mar\, totalmente gratuito\, en el que pueden participar todxs lxs alumnxs de nuestro programa de meditación GIM\, pero también está abierto para aquellas personas que quieren descubrir el potencial de la meditación y les apetece una primera experiencia. Generamos un espacio para compartir\, meditar y aprender juntos sobre el funcionamiento de la mente.  \n\n\n\nSe trata de un espacio presencial y online todos los miércoles de 19 a 20 horas\, totalmente gratuito.  La modalidad presencial tiene lugar en la sede Sangha activa Vilassar de Mar\, en el C/Sant Genís\, 2. Y la modalidad online es a través de la plataforma Zoom.  \n\n\n\nSi no eres alumnx GIM y quieres participar en Cuida tu mente solo tienes que apuntarte. ¿Cómo? \n\n\n\nCómo apuntarse a cuida tu mente\n\n\n\n1) Suscríbete a nuestra base de datos de «Amigxs de Sangha Activa».  Encontrarás el formulario al finalizar estas instrucciones.  \n\n\n\n2) Una vez hayas confirmado la suscripción\, recibirás un correo electrónico de Ngawang Rinchen\, el coordinador de la actividad\, quien te enviará los enlaces para reservar tu sitio tanto en formato presencial (en Vilassar de Mar) o en formato online (Zoom). ¡Así de fácil! \n\n\n\nEn cuida tu mente estáis todxs bienvenidxs a compartir y participar.
URL:https://sanghaactiva.com/ca/agenda/cuida-tu-mente-26-febrero
LOCATION:Barcelona
CATEGORIES:Cuida tu mente,Meditación,Meditación Vilassar de Mar,Programa de Meditación GIM,Talleres gratuitos Meditación GIM,Vilassar de Mar
ATTACH;FMTTYPE=image/jpeg:https://sanghaactiva.com/wp-content/uploads/2023/12/cuida-tu-mente-vilassar-de-mar-portada.jpg
END:VEVENT
BEGIN:VEVENT
DTSTART;TZID=Europe/Madrid:20250226T193000
DTEND;TZID=Europe/Madrid:20250226T210000
DTSTAMP:20260425T130445
CREATED:20250212T171408Z
LAST-MODIFIED:20250212T171410Z
UID:25237-1740598200-1740603600@sanghaactiva.com
SUMMARY:Curso online Introducción al camino medio de Chandrakirti\, por Ven. Khenpo Ngawang Tsultrim - Inicio
DESCRIPTION:Khenpo nos visitará en nuestra sede de Dones d´Aigua (Sant Iscle de Vallalta)\, desde el 25 de febrero hasta el 30 de marzo y compartirá un programa interno para el Camino Ngagpa y para los alumnos de los grupos de Filosofía Budista Shantideva\, junto a un programa abierto a todas aquellas personas que deseen conocer en profundidad la meditación y la filosofía budista. \n\n\n\nEn esta ocasión\, nos introducirá en uno de los 18 textos esenciales del budismo según la tradición Sakya\, se trata de la enseñanza Introducción al Camino Medio\, del sabio Chandrakirti (ca. 600-650) filósofo indio y abad de Nalanda\, continuador del pensamiento del sabio budista Nagarjuna y autor de comentarios sobre la obra de este y de su principal discípulo\, Aryadeva. Fue el autor principal de la subescuela Prasangika de la tradición filosófica Madhyamaka.  \n\n\n\nFechas  \n\n\n\n26 y 27 de febrero\, 4\, 5\, 6\, 11\, 12\, 13\, 18\, 19\, 20\, 25\, 26 y 27 de marzo. \n\n\n\nSesiones  \n\n\n\n14 sesiones de 1:30h\, de 19:30 a 21:00   \n\n\n\nModalidad  \n\n\n\nOnline a través de Zoom y diferido  \n\n\n\n\nMÁS INFORMACIÓN E INSCRIPCIONES
URL:https://sanghaactiva.com/ca/agenda/curso-introduccion-camino-medio-chandrakirti-evento
LOCATION:Barcelona
CATEGORIES:Curso Online,Filosofía Budista
ATTACH;FMTTYPE=image/jpeg:https://sanghaactiva.com/wp-content/uploads/2025/02/introduccion-al-camino-medio-curso-imagen-e1758192739138.jpg
END:VEVENT
END:VCALENDAR